BEGIN:VCALENDAR
VERSION:2.0
PRODID:-//Solihull Stroke - ECPv6.15.20//NONSGML v1.0//EN
CALSCALE:GREGORIAN
METHOD:PUBLISH
X-WR-CALNAME:Solihull Stroke
X-ORIGINAL-URL:https://www.solihullstroke.org.uk
X-WR-CALDESC:Events for Solihull Stroke
REFRESH-INTERVAL;VALUE=DURATION:PT1H
X-Robots-Tag:noindex
X-PUBLISHED-TTL:PT1H
BEGIN:VTIMEZONE
TZID:Europe/London
BEGIN:DAYLIGHT
TZOFFSETFROM:+0000
TZOFFSETTO:+0100
TZNAME:BST
DTSTART:20160327T010000
END:DAYLIGHT
BEGIN:STANDARD
TZOFFSETFROM:+0100
TZOFFSETTO:+0000
TZNAME:GMT
DTSTART:20161030T010000
END:STANDARD
BEGIN:DAYLIGHT
TZOFFSETFROM:+0000
TZOFFSETTO:+0100
TZNAME:BST
DTSTART:20170326T010000
END:DAYLIGHT
BEGIN:STANDARD
TZOFFSETFROM:+0100
TZOFFSETTO:+0000
TZNAME:GMT
DTSTART:20171029T010000
END:STANDARD
BEGIN:DAYLIGHT
TZOFFSETFROM:+0000
TZOFFSETTO:+0100
TZNAME:BST
DTSTART:20180325T010000
END:DAYLIGHT
BEGIN:STANDARD
TZOFFSETFROM:+0100
TZOFFSETTO:+0000
TZNAME:GMT
DTSTART:20181028T010000
END:STANDARD
END:VTIMEZONE
BEGIN:VEVENT
DTSTART;TZID=Europe/London:20171026T100000
DTEND;TZID=Europe/London:20171026T120000
DTSTAMP:20260420T223858
CREATED:20170821T091018Z
LAST-MODIFIED:20170821T091018Z
UID:349-1509012000-1509019200@www.solihullstroke.org.uk
SUMMARY:Music and Singing session with Richard Churley
DESCRIPTION:Music and Singing session with Richard Churley
URL:https://www.solihullstroke.org.uk/event/music-singing-session-richard-churley/
LOCATION:The Oliver Bird Hall\, Church Hill Road\, Solihull\, B91 3RQ\, United Kingdom
END:VEVENT
BEGIN:VEVENT
DTSTART;TZID=Europe/London:20171012T100000
DTEND;TZID=Europe/London:20171012T120000
DTSTAMP:20260420T223858
CREATED:20170821T090858Z
LAST-MODIFIED:20170821T090858Z
UID:347-1507802400-1507809600@www.solihullstroke.org.uk
SUMMARY:Talk by guest speaker on the importance of a Power of Attorney
DESCRIPTION:Talk by guest speaker on the importance of a Power of Attorney
URL:https://www.solihullstroke.org.uk/event/talk-guest-speaker-importance-power-attorney/
LOCATION:The Oliver Bird Hall\, Church Hill Road\, Solihull\, B91 3RQ\, United Kingdom
END:VEVENT
BEGIN:VEVENT
DTSTART;TZID=Europe/London:20171005T100000
DTEND;TZID=Europe/London:20171005T120000
DTSTAMP:20260420T223858
CREATED:20170821T090642Z
LAST-MODIFIED:20170821T090642Z
UID:345-1507197600-1507204800@www.solihullstroke.org.uk
SUMMARY:Boccia - Indoor bowls
DESCRIPTION:Boccia – Indoor bowls
URL:https://www.solihullstroke.org.uk/event/boccia-indoor-bowls/
LOCATION:The Oliver Bird Hall\, Church Hill Road\, Solihull\, B91 3RQ\, United Kingdom
END:VEVENT
BEGIN:VEVENT
DTSTART;TZID=Europe/London:20170928T100000
DTEND;TZID=Europe/London:20170928T120000
DTSTAMP:20260420T223858
CREATED:20170821T090531Z
LAST-MODIFIED:20170821T090531Z
UID:343-1506592800-1506600000@www.solihullstroke.org.uk
SUMMARY:Art session with Brian
DESCRIPTION:Art session with Brian
URL:https://www.solihullstroke.org.uk/event/art-session-brian/
LOCATION:The Oliver Bird Hall\, Church Hill Road\, Solihull\, B91 3RQ\, United Kingdom
END:VEVENT
BEGIN:VEVENT
DTSTART;TZID=Europe/London:20170921T100000
DTEND;TZID=Europe/London:20170921T120000
DTSTAMP:20260420T223858
CREATED:20170821T090419Z
LAST-MODIFIED:20170821T090419Z
UID:341-1505988000-1505995200@www.solihullstroke.org.uk
SUMMARY:Exercise Tai Chi with Alan Samson
DESCRIPTION:Exercise Tai Chi with Alan Samson
URL:https://www.solihullstroke.org.uk/event/exercise-tai-chi-alan-samson/
LOCATION:The Oliver Bird Hall\, Church Hill Road\, Solihull\, B91 3RQ\, United Kingdom
END:VEVENT
BEGIN:VEVENT
DTSTART;TZID=Europe/London:20170914T100000
DTEND;TZID=Europe/London:20170914T120000
DTSTAMP:20260420T223858
CREATED:20170821T090101Z
LAST-MODIFIED:20170821T090101Z
UID:335-1505383200-1505390400@www.solihullstroke.org.uk
SUMMARY:Graham Short\, miniature sculptures
DESCRIPTION:Graham Short\, miniature sculptures
URL:https://www.solihullstroke.org.uk/event/graham-short-miniature-sculptures/
LOCATION:The Oliver Bird Hall\, Church Hill Road\, Solihull\, B91 3RQ\, United Kingdom
END:VEVENT
BEGIN:VEVENT
DTSTART;TZID=Europe/London:20170907T100000
DTEND;TZID=Europe/London:20170907T120000
DTSTAMP:20260420T223858
CREATED:20170821T090257Z
LAST-MODIFIED:20170821T090257Z
UID:338-1504778400-1504785600@www.solihullstroke.org.uk
SUMMARY:Starting date for new term
DESCRIPTION:Starting date for new term
URL:https://www.solihullstroke.org.uk/event/starting-date-new-term/
LOCATION:The Oliver Bird Hall\, Church Hill Road\, Solihull\, B91 3RQ\, United Kingdom
ORGANIZER;CN="":MAILTO:solihullstrokesurvivors1@outlook.com
END:VEVENT
END:VCALENDAR